BEGIN:VCALENDAR
VERSION:2.0
PRODID:-//Verex Dental - ECPv6.15.18//NONSGML v1.0//EN
CALSCALE:GREGORIAN
METHOD:PUBLISH
X-WR-CALNAME:Verex Dental
X-ORIGINAL-URL:https://www.verexusa.com
X-WR-CALDESC:Events for Verex Dental
REFRESH-INTERVAL;VALUE=DURATION:PT1H
X-Robots-Tag:noindex
X-PUBLISHED-TTL:PT1H
BEGIN:VTIMEZONE
TZID:America/Chicago
BEGIN:DAYLIGHT
TZOFFSETFROM:-0600
TZOFFSETTO:-0500
TZNAME:CDT
DTSTART:20240310T080000
END:DAYLIGHT
BEGIN:STANDARD
TZOFFSETFROM:-0500
TZOFFSETTO:-0600
TZNAME:CST
DTSTART:20241103T070000
END:STANDARD
BEGIN:DAYLIGHT
TZOFFSETFROM:-0600
TZOFFSETTO:-0500
TZNAME:CDT
DTSTART:20250309T080000
END:DAYLIGHT
BEGIN:STANDARD
TZOFFSETFROM:-0500
TZOFFSETTO:-0600
TZNAME:CST
DTSTART:20251102T070000
END:STANDARD
BEGIN:DAYLIGHT
TZOFFSETFROM:-0600
TZOFFSETTO:-0500
TZNAME:CDT
DTSTART:20260308T080000
END:DAYLIGHT
BEGIN:STANDARD
TZOFFSETFROM:-0500
TZOFFSETTO:-0600
TZNAME:CST
DTSTART:20261101T070000
END:STANDARD
END:VTIMEZONE
BEGIN:VTIMEZONE
TZID:America/New_York
BEGIN:DAYLIGHT
TZOFFSETFROM:-0500
TZOFFSETTO:-0400
TZNAME:EDT
DTSTART:20230312T070000
END:DAYLIGHT
BEGIN:STANDARD
TZOFFSETFROM:-0400
TZOFFSETTO:-0500
TZNAME:EST
DTSTART:20231105T060000
END:STANDARD
BEGIN:DAYLIGHT
TZOFFSETFROM:-0500
TZOFFSETTO:-0400
TZNAME:EDT
DTSTART:20240310T070000
END:DAYLIGHT
BEGIN:STANDARD
TZOFFSETFROM:-0400
TZOFFSETTO:-0500
TZNAME:EST
DTSTART:20241103T060000
END:STANDARD
BEGIN:DAYLIGHT
TZOFFSETFROM:-0500
TZOFFSETTO:-0400
TZNAME:EDT
DTSTART:20250309T070000
END:DAYLIGHT
BEGIN:STANDARD
TZOFFSETFROM:-0400
TZOFFSETTO:-0500
TZNAME:EST
DTSTART:20251102T060000
END:STANDARD
END:VTIMEZONE
BEGIN:VEVENT
DTSTART;TZID=America/Chicago:20250320T080000
DTEND;TZID=America/Chicago:20250322T170000
DTSTAMP:20260419T225416
CREATED:20241212T232617Z
LAST-MODIFIED:20241212T232617Z
UID:10000005-1742457600-1742662800@www.verexusa.com
SUMMARY:Hinman Dental Meeting
DESCRIPTION:Come see us!\n \nMarch 20 – March 22\, 2025\nBooth #1623\nStop by our booth to see the full line of Alltion Dental Microscopes!
URL:https://www.verexusa.com/event/hinman-dental-meeting/
LOCATION:Georgia World Congress Center\, 285 Andrew Young International Blvd NW\, Atlanta\, GA\, 30313\, United States
ATTACH;FMTTYPE=image/png:https://www.verexusa.com/wp-content/uploads/2024/12/hinman-meeting.png
END:VEVENT
BEGIN:VEVENT
DTSTART;TZID=America/Chicago:20250220T080000
DTEND;TZID=America/Chicago:20250222T170000
DTSTAMP:20260419T225416
CREATED:20241212T231948Z
LAST-MODIFIED:20241212T231948Z
UID:10000004-1740038400-1740243600@www.verexusa.com
SUMMARY:Chicago Dental Society: Midwinter Meeting
DESCRIPTION:Come see us!\n \nFebruary 20 – February 22\, 2025\nBooth #5034\nStop by our booth to see the full line of Alltion Dental Microscopes!
URL:https://www.verexusa.com/event/chicago-dental-society-midwinter-meeting/
LOCATION:McCormick Place Lakeside Center\, 2317 S Indiana Ave\, Chicago\, IL\, 60616\, United States
ATTACH;FMTTYPE=image/jpeg:https://www.verexusa.com/wp-content/uploads/2024/12/cds2025.jpg
END:VEVENT
BEGIN:VEVENT
DTSTART;TZID=America/Chicago:20250130T080000
DTEND;TZID=America/Chicago:20250201T170000
DTSTAMP:20260419T225416
CREATED:20241212T223514Z
LAST-MODIFIED:20241212T223528Z
UID:10000003-1738224000-1738429200@www.verexusa.com
SUMMARY:Yankee Dental Congress 2025
DESCRIPTION:Come see us!\n \nJanuary 30 – February 1\, 2025\nBooth #1534\nStop by our booth to see the full line of Alltion Dental Microscopes!
URL:https://www.verexusa.com/event/yankee-dental-congress-2025/
LOCATION:Boston Convention & Exhibition Center\, 415 Summer St\, Boston\, MA\, 02210\, United States
ATTACH;FMTTYPE=image/jpeg:https://www.verexusa.com/wp-content/uploads/2024/12/yankee-dental.jpg
END:VEVENT
BEGIN:VEVENT
DTSTART;VALUE=DATE:20241129
DTEND;VALUE=DATE:20241205
DTSTAMP:20260419T225416
CREATED:20241025T172419Z
LAST-MODIFIED:20241212T230914Z
UID:10000001-1732838400-1733356799@www.verexusa.com
SUMMARY:Greater NY Dental Meeting 2024
DESCRIPTION:Come see us for your chance to win!\n \nNovember 29 – December 4\nBooth #2622\nStop by our booth to see the full line of Alltion Dental Microscopes and enter for your chance to win prizes! \nPRIZES INCLUDE:\n1 Winner:  10 oz Texas Mint Silver Bar\n2 Winners: Alltion Ergonomic Chair
URL:https://www.verexusa.com/event/greater-ny-dental-meeting-2024/
LOCATION:Jacob K. Javits Convention Center\, 429 11th Ave\, New York\, NY\, 10001\, United States
ATTACH;FMTTYPE=image/jpeg:https://www.verexusa.com/wp-content/uploads/2024/10/GNYD-Logo-e1731528168898.jpg
END:VEVENT
END:VCALENDAR